BEGIN:VCALENDAR
VERSION:2.0
PRODID:spatie/icalendar-generator
DESCRIPTION:Veranstaltungen von Tamburin Stuttgart e.V.
X-WR-CALDESC:Veranstaltungen von Tamburin Stuttgart e.V.
REFRESH-INTERVAL;VALUE=DURATION:PT1440M
X-PUBLISHED-TTL:PT1440M
BEGIN:VTIMEZONE
TZID:Europe/Berlin
BEGIN:STANDARD
DTSTART:20251026T030000Z
TZOFFSETFROM:+0200
TZOFFSETTO:+0100
END:STANDARD
BEGIN:DAYLIGHT
DTSTART:20260329T020000Z
TZOFFSETFROM:+0100
TZOFFSETTO:+0200
END:DAYLIGHT
BEGIN:STANDARD
DTSTART:20261025T030000Z
TZOFFSETFROM:+0200
TZOFFSETTO:+0100
END:STANDARD
END:VTIMEZONE
BEGIN:VTIMEZONE
TZID:UTC
BEGIN:STANDARD
DTSTART:20250729T173257Z
TZOFFSETFROM:+0000
TZOFFSETTO:+0000
END:STANDARD
END:VTIMEZONE
BEGIN:VEVENT
UID:114-24
DTSTAMP:20260425T173257Z
SUMMARY:Class/MS Tanzabend 1. HJ 2026
LOCATION:Haus Clemens von Galen Gnesener Str.83 - 85  Stuttgart - Bad Canns
 tatt
ORGANIZER;CN=Pascal Jost:MAILTO:pascal.jost@gmx.de
RRULE:FREQ=WEEKLY;UNTIL=20260624T000000Z
DTSTART;TZID=Europe/Berlin:20260401T191500
DTEND;TZID=Europe/Berlin:20260401T220000
X-ALT-DESC;FMTTYPE=TEXT/HTML:Am 1. Mittwoch im Monat mit Afterparty im Tanz
 raum Class 19:15 – 20:45 Uhr MS 20:45 – 22:00 Uhr bitte anmelden: http
 s://app.kulibri.com/pr/nkAgJOO4Jy30/Y174Y174J5EJ2MGg
CATEGORIES:SQD Mainstream,  Clubabend,  Kurs
URL;VALUE=URI:https://tamburin-tanzt.de/mc-events/class-ms-tanzabend-1-hj-2
 026/?mc_id=114
METHOD:PUBLISH
END:VEVENT
BEGIN:VEVENT
UID:136-35
DTSTAMP:20260425T173257Z
SUMMARY:Plus Dance
LOCATION:Bürgerhaus Botnang Griegstr. 18  Stuttgart  70195
ORGANIZER;CN=Pascal Jost:MAILTO:pascal.jost@gmx.de
DTSTART;TZID=Europe/Berlin:20260412T170000
DTEND;TZID=Europe/Berlin:20260412T200000
X-ALT-DESC;FMTTYPE=TEXT/HTML:Plus mit guter Laune\, nur zum Spaß Doorprice
  € 5\,- von 17:00 bis 20:00 Uhr Caller siehe Link bitte anmelden: https:
 //app.kulibri.com/pr/3v5bJdlgJ2Ek/Y174Y174J5EJ2MGg
CATEGORIES:SQD Plus
URL;VALUE=URI:https://tamburin-tanzt.de/mc-events/plus-dance-6/
METHOD:PUBLISH
END:VEVENT
BEGIN:VEVENT
UID:167-52
DTSTAMP:20260425T173257Z
SUMMARY:A2 Class
LOCATION:Bürgerhaus Botnang Griegstr. 18  Stuttgart  70195
ORGANIZER;CN=Pascal Jost:MAILTO:pascal.jost@gmx.de
DTSTART;TZID=Europe/Berlin:20260419T160000
DTEND;TZID=Europe/Berlin:20260419T200000
X-ALT-DESC;FMTTYPE=TEXT/HTML:Termine 1. Halbjahr 2026 Doorprice: A Clubaben
 d € 5.- / A Class € 5.- A Class + A Clubabend € 6.- Anmeldung erford
 erlich über kulibri: https://bit.ly/A-Tamburin
CATEGORIES:Kurs,  SQD A2
URL;VALUE=URI:https://tamburin-tanzt.de/mc-events/a2-class-10/
METHOD:PUBLISH
END:VEVENT
BEGIN:VEVENT
UID:168-65
DTSTAMP:20260425T173257Z
SUMMARY:Workshop A1 / A2
LOCATION:Bürgerhaus Botnang Griegstr. 18  Stuttgart  70195
ORGANIZER;CN=Pascal Jost:MAILTO:pascal.jost@gmx.de
DTSTART;TZID=Europe/Berlin:20260425T153000
DTEND;TZID=Europe/Berlin:20260425T200000
X-ALT-DESC;FMTTYPE=TEXT/HTML:caller Paddy
CATEGORIES:Kurs,  SQD A1,  SQD A2
URL;VALUE=URI:https://tamburin-tanzt.de/mc-events/workshop-a1-a2/
METHOD:PUBLISH
END:VEVENT
BEGIN:VEVENT
UID:137-36
DTSTAMP:20260425T173257Z
SUMMARY:Plus Dance
LOCATION:Bürgerhaus Botnang Griegstr. 18  Stuttgart  70195
ORGANIZER;CN=Pascal Jost:MAILTO:pascal.jost@gmx.de
DTSTART;TZID=Europe/Berlin:20260426T170000
DTEND;TZID=Europe/Berlin:20260426T200000
X-ALT-DESC;FMTTYPE=TEXT/HTML:Plus mit guter Laune\, nur zum Spaß Doorprice
  € 5\,- von 17:00 bis 20:00 Uhr Caller siehe Link bitte anmelden: https:
 //app.kulibri.com/pr/3v5bJdlgJ2Ek/Y174Y174J5EJ2MGg
CATEGORIES:SQD Plus
URL;VALUE=URI:https://tamburin-tanzt.de/mc-events/plus-dance-7/
METHOD:PUBLISH
END:VEVENT
BEGIN:VEVENT
UID:164-62
DTSTAMP:20260425T173257Z
SUMMARY:SCD Gemeinsames Tanzen Stuttgart + Denkendorf
LOCATION:Hans-Sachs-Haus Hauptstätterstr. 142  Stuttgart  70178
ORGANIZER;CN=Pascal Jost:MAILTO:pascal.jost@gmx.de
DTSTART;TZID=Europe/Berlin:20260429T190000
DTEND;TZID=Europe/Berlin:20260429T200000
X-ALT-DESC;FMTTYPE=TEXT/HTML:An diesem Termin wollen die Tanzgruppen aus St
 uttgart und Denkendorf gemeinsam tanzen. &amp;nbsp\;
CATEGORIES:SCD allgemein
URL;VALUE=URI:https://tamburin-tanzt.de/mc-events/scd-gemeinsames-tanzen-st
 uttgart-denkendorf/
METHOD:PUBLISH
END:VEVENT
END:VCALENDAR